BEGIN:VCALENDAR
VERSION:2.0
PRODID:https://github.com/derhansen/sf_event_mgt
METHOD:PUBLISH
BEGIN:VEVENT
UID:143-7@archives.maine-et-loire.fr
CLASS: PUBLIC
SUMMARY:Archives et histoire des vins et de ses producteurs en Anjou-Touraine au XIXe et XXe siècles
DESCRIPTION:Cette intervention inaugure le cycle de conférences des Archiv
 es départementales de Maine-et-Loire.\n\nElle sera animée par Valentin T
 aveau, docteur en histoire et auteur d'une thèse sur l'histoire de la mai
 son Ackerman en 2021 et d'une bande-dessinée Ackerman, l'histoire d'un pi
 onnier.
LOCATION:Archives départementales de Maine-et-Loire - 106, rue de Frémur, Angers
DTSTAMP:20260408T074524Z
DTSTART:20260616T160000Z
DTEND:20260616T170000Z
END:VEVENT
END:VCALENDAR