BEGIN:VCALENDAR
VERSION:2.0
PRODID:https://github.com/derhansen/sf_event_mgt
METHOD:PUBLISH
BEGIN:VEVENT
UID:85-7@archives.maine-et-loire.fr
CLASS: PUBLIC
SUMMARY:Cloîtrées. Filles et religieuses dans les internats de rééducation du Bon Pasteur d’Angers, 1940-1990
DESCRIPTION:Dans le cadre de leurs conférences d'initiation à la recherch
 e, l'Association des amis des archives d'Anjou propose une conférence int
 itulée « Cloîtrées. Filles et religieuses dans les internats de réé
 ducation du Bon Pasteur d’Angers, 1940-1990 » et animée par Jean-Luc M
 arais, docteur en histoire contemporaine et maître de conférences honora
 ire à l’université d’Angers.\n\nDepuis le XIXe siècle, la congréga
 tion du Bon-Pasteur d'Angers prend en charge les jeunes filles des classes
  populaires considérées comme dangereuses. Entre 1940 et 1991, la maison
 -mère d'Angers a accueilli 8 000 enfants. Mais, à partir de la fin des a
 nnées 1960, les internats du Bon-Pasteur sont contestés et se marginalis
 ent progressivement.
LOCATION:Archives départementales de Maine-et-Loire - 106, rue de Frémur, Angers
DTSTAMP:20241203T090638Z
DTSTART:20241206T133000Z
DTEND:20241206T153000Z
END:VEVENT
END:VCALENDAR