BEGIN:VCALENDAR
VERSION:2.0
PRODID:https://github.com/derhansen/sf_event_mgt
METHOD:PUBLISH
BEGIN:VEVENT
UID:80-7@archives.maine-et-loire.fr
CLASS: PUBLIC
SUMMARY:DÃ©couvrir et manipuler les archives anciennes (avant 1790) conservÃ©es aux Archives dÃ©partementales
DESCRIPTION:Venez participer Ã  lâ€™atelier animÃ© par Floriana Bardoneschi
 , responsable des fonds anciens aux Archives dÃ©partementales.Â Vous y dÃ©
 couvrirez comment les archives anciennes se sont constituÃ©es et pourrez Ã
 ©galement manipuler des registres, des codex et des rouleaux de parchemin.
 \n\nGratuit sur inscription (dans la limite des places disponibles)
LOCATION:Archives dÃ©partementales de Maine-et-Loire - 106, rue de FrÃ©mur, Angers
DTSTAMP:20240521T101107Z
DTSTART:20240614T120000Z
DTEND:20240614T140000Z
END:VEVENT
END:VCALENDAR