BEGIN:VCALENDAR
VERSION:2.0
PRODID:https://github.com/derhansen/sf_event_mgt
METHOD:PUBLISH
BEGIN:VEVENT
UID:109-7@archives.maine-et-loire.fr
CLASS: PUBLIC
SUMMARY:DerriÃ¨re la porte du 106
DESCRIPTION:Le 24 octobre, pendant les vacances de la Toussaint, les Archiv
 es dÃ©partementales de Maine-et-Loire ouvrent leurs portes au public Ã  lâ
 €™occasion dâ€™une visite commentÃ©e. Venez dÃ©couvrir les coulisses de ce
 t Ã©tablissement riche en histoire. Au programme : visite des magasins de 
 conservation, de la salle de tri, de la salle de consultation, rencontre a
 vec des archivistes et prÃ©sentation de documents originaux du Moyen Ã‚ge 
 Ã  nos jours.\n\nVisite commentÃ©e le vendredi 24 octobre de 10 h Ã  12 h.
 \n\nEntrÃ©e gratuite sur inscription, dans la limite des places disponible
 s (avant le 23 octobre)
LOCATION:Archives dÃ©partementales de Maine-et-Loire - 106, rue de FrÃ©mur, Angers
DTSTAMP:20250910T074720Z
DTSTART:20251024T080000Z
DTEND:20251024T100000Z
END:VEVENT
END:VCALENDAR