BEGIN:VCALENDAR
VERSION:2.0
PRODID:https://github.com/derhansen/sf_event_mgt
METHOD:PUBLISH
BEGIN:VEVENT
UID:140-7@archives.maine-et-loire.fr
CLASS: PUBLIC
SUMMARY:Généalogie en famille - Maison du Département du Grand Saumurois
DESCRIPTION:Vous avez envie... \n\n 	de découvrir ce qu'est la généalog
 ie ? 	de savoir comment faire une recherche sur le site internet des Archi
 ves ? 	d'explorer les liens et l'histoire d'une famille ? 	de commencer vo
 tre arbre généalogique ?  	d'échanger entre générations ? \n\nVenez 
 jouer autour... \n\n 	des archives 	du vocabulaire des liens de parenté 
 	de l'histoire locale  	du partage intergénérationnel 
LOCATION:Maison du Département du Choletais, 25 bis rue Seigneur, 49400 Saumur
DTSTAMP:20260303T140404Z
DTSTART:20261021T120000Z
DTEND:20261021T140000Z
END:VEVENT
END:VCALENDAR