BEGIN:VCALENDAR
VERSION:2.0
PRODID:https://github.com/derhansen/sf_event_mgt
METHOD:PUBLISH
BEGIN:VEVENT
UID:34-7@archives.maine-et-loire.fr
CLASS: PUBLIC
SUMMARY:Ils ont rejoint de Gaulle ! les Français Libres de Maine-et-Loire
DESCRIPTION:À l’occasion des 80 ans du débarquement en Afrique du nord 
 et des nouvelles données historiques recueillies sur cette période, les 
 Archives départementales avec l’association Résistance Anjou présente
 nt une exposition itinérante intitulée « Ils ont rejoint de Gaulle ! le
 s Français Libres de Maine-et-Loire ».\n\nCette exposition, nouvellement
  mise à jour, se décline en 14 panneaux et documents originaux dont cert
 ains sont inédits.
LOCATION:Archives départementales de Maine-et-Loire - 106, rue de Frémur, Angers
DTSTAMP:20230301T130750Z
DTSTART:20221108T120000Z
DTEND:20230308T130000Z
END:VEVENT
END:VCALENDAR