BEGIN:VCALENDAR
VERSION:2.0
PRODID:https://github.com/derhansen/sf_event_mgt
METHOD:PUBLISH
BEGIN:VEVENT
UID:104-7@archives.maine-et-loire.fr
CLASS: PUBLIC
SUMMARY:JournÃ©e de l'histoire 2025 (Les 4A)
DESCRIPTION:Pendant cette journÃ©e, des confÃ©rences plÃ©niÃ¨res alterneron
 t avec des temps d'atelier en petits groupes pour pouvoir Ã©changer toute 
 la journÃ©e avec des historiens.\n\nAu programme :\n\nLe matin, Ã  partir 
 de 9h\n\nConfÃ©rence de Martin PITHON : Â« ArchÃ©ologie de l'eau Ã  Angers
  durant l'AntiquitÃ© Â»\n\nPremier temps d'atelier avec deux thÃ¨mes au ch
 oix parmi les quatre proposÃ©s :\n\n 	Daniel PRIGENT : Â« L'eau dans les a
 bbayes : l'exemple de Fontevraud Â» 	GwenaÃ«l ROY : Â« La fouille archÃ©ol
 ogique des puits Â» 	Jean ROUSSELOT et Cristiana PAVIE : Â« Les apports de
  l'histoire dans la restauration des cours d'eau Â» 	Denis FILLON et Yann 
 VIAU : Â« La Loire de l'AntiquitÃ© Ã  la pÃ©riode moderne : activitÃ©s et 
 amÃ©nagements Â» \n\nL'aprÃ¨s-midi, Ã  partir de 14h\n\nConfÃ©rence de Syl
 vain BERTOLDI : Â« L'eau dans la ville Ã  Angers du Moyen Ã‚ge au XXe siÃ¨
 cle Â»\n\nSecond temps d'atelier avec deux thÃ¨mes au choix parmi les quat
 re proposÃ©s :\n\n 	Thierry BURON : Â« Acheminer l'eau dans les propriÃ©tÃ
 ©s du Maine-et-Loire au XIXe siÃ¨cle : bÃ©liers hydrauliques et Ã©oliennes
  BollÃ©e Â» 	Jean-Luc MARAIS : Â« Les sources sacrÃ©es et guÃ©risseuses en
  Anjou, de la PrÃ©histoire au XXe siÃ¨cle Â» 	Pascal TELLIER : Â« Au fil d
 e l'eau : la Loire Ã  travers les fonds iconographiques des Archives dÃ©pa
 rtementales de Maine-et-Loire Â» 	Anne-FranÃ§oise HECTOR : Â« Ce n'est pas
  petite gloire, que d'Ãªtre pont sur la Loire : traverser la Loire aux XIX
 e-XXe siÃ¨cles Â» \n\nSUR INSCRIPTION : bulletin d'inscription Ã  envoyer 
 avant le 15 mars (voir modalitÃ©s dans le dÃ©pliant de la journÃ©e de l'hi
 stoire)
LOCATION:Archives dÃ©partementales de Maine-et-Loire - 106, rue de FrÃ©mur, Angers
DTSTAMP:20250304T155627Z
DTSTART:20250329T080000Z
DTEND:20250329T160000Z
END:VEVENT
END:VCALENDAR