BEGIN:VCALENDAR
VERSION:2.0
PRODID:https://github.com/derhansen/sf_event_mgt
METHOD:PUBLISH
BEGIN:VEVENT
UID:82-7@archives.maine-et-loire.fr
CLASS: PUBLIC
SUMMARY:Le Choletais (XIXe-XXe siÃ¨cles), originales terres ouvriÃ¨res
DESCRIPTION:Dans le cadre de leurs confÃ©rences d'initiation Ã  la recherch
 e, l'Association des amis des archives d'Anjou propose une confÃ©rence int
 itulÃ©e Â« Le Choletais (XIXe-XXe siÃ¨cles), originales terres ouvriÃ¨res 
 Â» et animÃ©e par Philippe Gaboriau, sociologue, enseignant-chercheur Ã  l
 'EHESS.\n\nLe livre Mireille, ouvriÃ¨re de la chaussure, Ã©crit par Philip
 pe Gaboriau (Atelier Henry Dougier, Paris, 2019), plaÃ§ait le lecteur dans
  la tÃªte dâ€™une ouvriÃ¨re de la chaussure. Cet artifice permettait de dÃ
 ©crire et de comprendre ces ouvriÃ¨res du Choletais.\n\nÃ‰largissant son p
 ropos pour cette confÃ©rence, lâ€™auteur reviendra sur ces Â« terres ouvri
 Ã¨res Â» si particuliÃ¨res de la Â« VendÃ©e angevine Â» (Mauges, Choletais
 , VendÃ©e, Nord Deux-SÃ¨vres), mobilisant pour les expliquer plusieurs not
 ions socio-historiques : la famille ouvriÃ¨re au travail, le bourg et le d
 istrict industriel, le temps long de la rÃ©volution industrielle, les cult
 ures populaires (paysannes et ouvriÃ¨res), les Mauges, lâ€™histoire de lâ€
 ™Ouest de la France, etc.
LOCATION:Archives dÃ©partementales de Maine-et-Loire - 106, rue de FrÃ©mur, Angers
DTSTAMP:20240524T090056Z
DTSTART:20240531T130000Z
DTEND:20240531T150000Z
END:VEVENT
END:VCALENDAR