BEGIN:VCALENDAR
VERSION:2.0
PRODID:https://github.com/derhansen/sf_event_mgt
METHOD:PUBLISH
BEGIN:VEVENT
UID:103-7@archives.maine-et-loire.fr
CLASS: PUBLIC
SUMMARY:L'Ã©ducation des filles de la noblesse Ã  la fin du Moyen Ã‚ge
DESCRIPTION:Dans le cadre de leurs confÃ©rences d'initiation Ã  la recherch
 e, l'Association des amis des archives d'Anjou propose une confÃ©rence int
 itulÃ©e Â« L'Ã©ducation des filles de la noblesse Ã  la fin du Moyen Ã‚ge 
 Â» et animÃ©e par Ã‰lodie Lequain, docteure en histoire mÃ©diÃ©vale, profe
 sseur en classes prÃ©paratoires au lycÃ©e Henri Bergson.\n\nLa Bible prÃ©c
 onise de soigner l'Ã©ducation des enfants et spÃ©cialement celle des fille
 s. Â« As-tu des enfants ? Eduque-les, plie leur nuque dÃ¨s la jeunesse Â» 
 (Siracide, VII, 23-25). La tÃ¢che des parents est dÃ©licate puisque la fem
 me est Â« difficile Ã  Ã©duquer, trompeuse, acariÃ¢tre, et tombe aisÃ©ment
  dans la luxure Â» comme le rÃ©sume BarthÃ©lemy lâ€™Anglais dans Le livre 
 des propriÃ©tÃ©s des choses (vers 1247). De nombreux auteurs mÃ©diÃ©vaux, 
 des clercs la plupart du temps, ont rÃ©digÃ© des recommandations pour Ã©du
 quer correctement les filles. Cette littÃ©rature didactique forme un corpu
 s plutÃ´t hÃ©tÃ©rogÃ¨ne constituÃ© d'opuscules anecdotiques mais aussi dâ€
 ™Å“uvres majeures comme le Livre des Trois vertus de Christine de Pizan (1
 405). Parmi ces Ã©crits, plusieurs ouvrages sont rÃ©digÃ©s par les parents
  eux-mÃªmes Ã  destination de leurs enfants.\n\nLa prÃ©sentation sâ€™intÃ©
 resse Ã  la parole des pÃ¨res et des mÃ¨res, Ã  la fois pÃ©trie des injonc
 tions clÃ©ricales et riche des expÃ©riences personnelles.
LOCATION:Archives dÃ©partementales de Maine-et-Loire - 106, rue de FrÃ©mur, Angers
DTSTAMP:20250205T083543Z
DTSTART:20250228T133000Z
DTEND:20250228T153000Z
END:VEVENT
END:VCALENDAR