BEGIN:VCALENDAR
VERSION:2.0
PRODID:https://github.com/derhansen/sf_event_mgt
METHOD:PUBLISH
BEGIN:VEVENT
UID:141-7@archives.maine-et-loire.fr
CLASS: PUBLIC
SUMMARY:Les Archives communales de Cholet à travers leur site internet et leurs fonds d'archives
DESCRIPTION:Dans le cadre de leurs conférences d'initiation à la recherch
 e, l'Association des amis des archives d'Anjou propose une conférence int
 itulée « Les Archives communales de Cholet à travers leur site internet
  et leurs fonds d'archives » et animée par Thierry Pineau, conservateu
 r des Archives de Cholet. \n\nDédié à l'histoire de la ville de Cholet
  et du Choletais, le site internet des Archives de Cholet propose 300 000 
 données numérisées. État civil, recensements de population, iconograph
 ie, délibérations municipales, cadastre napoléonien ou presse locale so
 nt accessibles grâce aux inventaires mis en ligne et l'important travail 
 d’indexation mené par les archivistes. Il existe également des fonds s
 onores, constitués de témoignages sur la Seconde Guerre mondiale, l’hi
 stoire des quartiers et des écoles.\n\nUne rubrique plus ludique, Regards
  sur les archives, propose aux internautes de découvrir un document, l'ac
 tualité du service, des jeux ou des escape games.
LOCATION:Archives départementales de Maine-et-Loire - 106, rue de Frémur, Angers
DTSTAMP:20260305T144846Z
DTSTART:20260320T133000Z
DTEND:20260320T153000Z
END:VEVENT
END:VCALENDAR