BEGIN:VCALENDAR
VERSION:2.0
PRODID:https://github.com/derhansen/sf_event_mgt
METHOD:PUBLISH
BEGIN:VEVENT
UID:27-7@archives.maine-et-loire.fr
CLASS: PUBLIC
SUMMARY:Meuniers et moulins en Haut-Anjou : une recherche généalogique et historique
DESCRIPTION:Par Guy Ripoche, en partenariat avec l’Association des amis d
 es archives d’Anjou Samedi 11 juin 2022 à 10h. \n\nLa généalogie n’
 est pas seulement un jeu de Légo avec empilage de noms et de génération
 s. C’est aussi (et surtout) une recherche sur la vie de nos ancêtres : 
 leur profession, leur habitat, leur mode de vie, etc. En réalisant la gé
 néalogie de meuniers, Guy Ripoche découvre l’histoire de leurs moulins
  mêlant l’histoire des techniques avec l’évolution de l’outil de p
 roduction et l’histoire des hommes, qu’ils soient propriétaires ou ex
 ploitants. Cette étude espère redonner vie à ces meuniers et aux moulin
 s du Haut-Anjou.\n\n\n\nCette manifestation se déroule aux Archives dépa
 rtementales de Maine-et-Loire.\n\nEntrée libre dans la limite des places 
 disponibles.\n\nPlus d'infos sur l'exposition.
LOCATION:Archives départementales de Maine-et-Loire.
106 rue de Frémur à Angers
DTSTAMP:20220525T095538Z
DTSTART:20220611T100000Z
DTEND:20220611T123000Z
END:VEVENT
END:VCALENDAR