BEGIN:VCALENDAR
VERSION:2.0
PRODID:https://github.com/derhansen/sf_event_mgt
METHOD:PUBLISH
BEGIN:VEVENT
UID:98-7@archives.maine-et-loire.fr
CLASS: PUBLIC
SUMMARY:« Mi-carême à Cholet et Fête des fleurs à Saumur »
DESCRIPTION:Dans le cadre de l'exposition « L'Anjou en fête », les Archi
 ves départementales proposent une conférence sur le carnaval de Cholet e
 t le Défilé fleuri de Saumur.\n\nCes deux festivités seront présentée
 s par Christian Percereau, carnavalier, auteur de la Grande aventure des C
 arnavaliers de Cholet (1865-2016) et fondateur de saumur-memoires-de-fetes
 .fr.\n\nOrganisé par l'association Cholet Évènements (anciennement comi
 té permanent des fêtes puis comité des fêtes, foires et salons), le ca
 rnaval de Cholet aura lieu du 26 avril au 3 mai, cette année.\n\nEntrée 
 libre et gratuite (dans la limite des places disponibles)
LOCATION:Archives départementales de Maine-et-Loire - 106, rue de Frémur, Angers
DTSTAMP:20250226T082652Z
DTSTART:20250304T170000Z
DTEND:20250304T183000Z
END:VEVENT
END:VCALENDAR