BEGIN:VCALENDAR
VERSION:2.0
PRODID:https://github.com/derhansen/sf_event_mgt
METHOD:PUBLISH
BEGIN:VEVENT
UID:75-7@archives.maine-et-loire.fr
CLASS: PUBLIC
SUMMARY:Mozé pendant les guerres de Vendée
DESCRIPTION:Dans le cadre de leurs conférences d'initiation à la recherch
 e, l'Association des amis des archives d'Anjou propose une conférence int
 itulée « Mozé pendant les guerres de Vendée » et animée par Philippe
  Candé, historien et illustrateur.\n\nLes petites sources de l’histoire
  de la Guerre de Vendée en pays angevin. Présentation d'une enquête hor
 s des sentiers battus, soulignant les apports de la micro-histoire et de l
 a démographie historique, les archives locales et départementales et une
  mortalité sous-estimée.\n\nPhilippe Candé est l'auteur d'un ouvrage é
 dité par le Centre vendéen de recherches historiques (CVRH), La guerre d
 e Vendée en pays angevin, une mémoire interdite, où il relate comment l
 a petite ville de Mozé a été une ligne de front entre territoire vendé
 en et républicain.
LOCATION:Archives départementales de Maine-et-Loire - 106, rue de Frémur, Angers
DTSTAMP:20240205T104217Z
DTSTART:20240216T150000Z
DTEND:20240216T170000Z
END:VEVENT
END:VCALENDAR