BEGIN:VCALENDAR
VERSION:2.0
PRODID:https://github.com/derhansen/sf_event_mgt
METHOD:PUBLISH
BEGIN:VEVENT
UID:102-7@archives.maine-et-loire.fr
CLASS: PUBLIC
SUMMARY:Ordre et dÃ©sordres des processions en Anjou au XVIIIe siÃ¨cle. Une lecture par les archives
DESCRIPTION:Dans le cadre de leurs confÃ©rences d'initiation Ã  la recherch
 e, l'Association des amis des archives d'Anjou propose une confÃ©rence int
 itulÃ©e Â«Â Ordre et dÃ©sordres des processions en Anjou au XVIIIe siÃ¨cle
 . Une lecture par les archives Â» et animÃ©e par GaÃ«l Rideau, professeur 
 d'histoire moderne Ã  l'universitÃ© d'OrlÃ©ans, spÃ©cialiste d'histoire po
 litique et culturelle.\n\nGaÃ«l Rideau est notamment l'auteur de Une sociÃ
 ©tÃ© en marche. Les processions en France au XVIIIe siÃ¨cle, paru en 2021.
 \n\nAu travers de cas particuliers concernant des processions de la FÃªte-
 Dieu, climatiques ou mÃ©morielles, cette confÃ©rence interrogera les rappo
 rts sociaux, les tensions politiques et les transformations religieuses qu
 e porte la procession au XVIIIe siÃ¨cle.
LOCATION:Archives dÃ©partementales de Maine-et-Loire - 106, rue de FrÃ©mur, Angers
DTSTAMP:20250122T094634Z
DTSTART:20250124T133000Z
DTEND:20250124T153000Z
END:VEVENT
END:VCALENDAR