BEGIN:VCALENDAR
VERSION:2.0
PRODID:https://github.com/derhansen/sf_event_mgt
METHOD:PUBLISH
BEGIN:VEVENT
UID:54-7@archives.maine-et-loire.fr
CLASS: PUBLIC
SUMMARY:Retracer un parcours individuel pendant la Seconde Guerre mondiale
DESCRIPTION:Venez participer à l’atelier animé par Jacques Le Naourès 
 et Pascal Tellier, responsables des fonds modernes et iconographiques. Ils
  vous présenteront les différentes ressources utiles (archives publiques
 , privées, iconographiques) pour retracer le parcours d’une personne pe
 ndant la Seconde Guerre mondiale.\n\nGratuit sur inscription (avant le 26 
 octobre)
LOCATION:Archives départementales de Maine-et-Loire - 106, rue de Frémur, Angers
DTSTAMP:20231009T071815Z
DTSTART:20231027T140000Z
DTEND:20231027T160000Z
END:VEVENT
END:VCALENDAR