BEGIN:VCALENDAR
VERSION:2.0
PRODID:https://github.com/derhansen/sf_event_mgt
METHOD:PUBLISH
BEGIN:VEVENT
UID:3-7@archives.maine-et-loire.fr
CLASS: PUBLIC
SUMMARY:Mytho or not mytho[logie]
DESCRIPTION:Aimons toujours, aimons encore ! Vaste sujet des Nuits de la le
 cture 2022 dans lequel les Archives dÃ©partementales plongent sans retenue
  pour la programmation autour de lâ€™exposition Â« Sur les traces de lâ€™A
 njou antique Â». Passion, trahison, secret, amour, mensonge et tragÃ©die s
 eront au cÅ“ur de cette soirÃ©e Mytho or not mytho[logie].\n\nÃ€ travers l
 a littÃ©rature, lâ€™Amicale des professeurs de latin-grec de lâ€™acadÃ©mie
  de Nantes (APLG) Ã©voquera certains mythes et divinitÃ©s grÃ©co-romaines 
 dans leurs quÃªtes extraordinaires dâ€™amour. Cette lecture sera suivie dâ
 €™un cabaret dâ€™improvisation thÃ©Ã¢trale avec la Ligue dâ€™improvisation
  angevine (LIMA) joyeusement animÃ© autour de nos passions du quotidien.\n
 \nVendredi 21 janvier 2022 Ã  20 h - Dans le cadre des Nuits de la lecture
 \n\nInfos pratiques :\n\n 	Lâ€™accÃ¨s est soumis Ã  la prÃ©sentation du pa
 ss en vigueur le jour de lâ€™Ã©vÃ©nement, 	Pas de rÃ©servation, 	EntrÃ©e g
 ratuite dans la limite des places disponibles, 	Parking gratuit Ã  disposi
 tion 
LOCATION:Archives dÃ©partementales de Maine-et-Loire - 106, rue de FrÃ©mur, Angers
DTSTAMP:20220118T145255Z
DTSTART:20220121T200000Z
DTEND:20220121T200000Z
END:VEVENT
END:VCALENDAR