BEGIN:VCALENDAR
VERSION:2.0
PRODID:https://github.com/derhansen/sf_event_mgt
METHOD:PUBLISH
BEGIN:VEVENT
UID:118-7@archives.maine-et-loire.fr
CLASS: PUBLIC
SUMMARY:Vendre l'exotisme à Angers au XVIIIe siècle
DESCRIPTION:Dans le cadre de leurs conférences d'initiation à la recherch
 e, l'Association des amis des archives d'Anjou propose une conférence int
 itulée « Vendre l'exotisme à Angers au XVIIIe siècle » et animée par
  David Audibert, docteur en histoire moderne et généalogiste.\n\nProfess
 ion méconnue et assez éloignée de la conception contemporaine du petit 
 commerce de proximité, l’épicerie appartient, au XVIIIe siècle, aux m
 étiers du luxe ou du demi-luxe. Œuvrant régulièrement dans de riches b
 outiques, les épiciers de l’époque jouent un rôle majeur dans l’his
 toire commerciale car ils participent notamment à la diffusion de produit
 s rares, parfois exotiques, dans la société française.\n\nCette communi
 cation se propose de découvrir cette profession à Angers en explorant, d
 ’une part, les ressources archivistiques disponibles concernant cette ac
 tivité commerciale et en présentant, d’autre part, les principaux rés
 ultats de l’étude concernant ces riches marchands.
LOCATION:Archives départementales de Maine-et-Loire - 106, rue de Frémur, Angers
DTSTAMP:20251117T085420Z
DTSTART:20251121T133000Z
DTEND:20251121T153000Z
END:VEVENT
END:VCALENDAR